BEGIN:VCALENDAR
VERSION:2.0
PRODID:-//Doppelpunkt//Events//DE
CALSCALE:GREGORIAN
METHOD:PUBLISH
BEGIN:VEVENT
UID:event-3252@www.doppelpunkt.de
DTSTAMP:20260421T164837
DTSTART:20251206T193000
DTEND:20251206T193000
SUMMARY:Bahnhof Motte u. Kreis 01 (Punk)
LOCATION:Desi\, Brückenstr. 23\, 90419 Nürnberg
STATUS:CONFIRMED
END:VEVENT
END:VCALENDAR