BEGIN:VCALENDAR
VERSION:2.0
PRODID:-//Doppelpunkt//Events//DE
CALSCALE:GREGORIAN
METHOD:PUBLISH
BEGIN:VEVENT
UID:event-3242@www.doppelpunkt.de
DTSTAMP:20260419T150244
DTSTART:20251219T150000
DTEND:20251219T150000
SUMMARY:Bilderbuchkino
LOCATION:Vischers Kulturladen\, Hufelandstraße 4\, 90419 Nürnberg
STATUS:CONFIRMED
END:VEVENT
END:VCALENDAR