BEGIN:VCALENDAR
VERSION:2.0
PRODID:-//Doppelpunkt//Events//DE
CALSCALE:GREGORIAN
METHOD:PUBLISH
BEGIN:VEVENT
UID:event-3231@www.doppelpunkt.de
DTSTAMP:20260421T014344
DTSTART:20260104T140000
DTEND:20260104T140000
SUMMARY:Führung: "Jüdisches Leben in Schwabach"
LOCATION:Jüdisches Museum Franken\, Synagogengasse 10\, 91126 Schwabach
STATUS:CONFIRMED
END:VEVENT
END:VCALENDAR