BEGIN:VCALENDAR
VERSION:2.0
PRODID:-//Doppelpunkt//Events//DE
CALSCALE:GREGORIAN
METHOD:PUBLISH
BEGIN:VEVENT
UID:event-3230@www.doppelpunkt.de
DTSTAMP:20260425T135316
DTSTART:20260111T140000
DTEND:20260111T140000
SUMMARY:Lesung: "Geschichten rund um das Essen"
LOCATION:Jüdisches Museum\, Königstr. 89\, 90762 Fürth
STATUS:CONFIRMED
END:VEVENT
END:VCALENDAR