BEGIN:VCALENDAR
VERSION:2.0
PRODID:-//Doppelpunkt//Events//DE
CALSCALE:GREGORIAN
METHOD:PUBLISH
BEGIN:VEVENT
UID:event-3224@www.doppelpunkt.de
DTSTAMP:20260421T111546
DTSTART:20251214T173000
DTEND:20251214T173000
SUMMARY:"Chanukka\, das Lichterfest"
LOCATION:Jüdisches Museum\, Museumsgasse 12 - 16\, 91220 Schnaittach
STATUS:CONFIRMED
END:VEVENT
END:VCALENDAR