BEGIN:VCALENDAR
VERSION:2.0
PRODID:-//Doppelpunkt//Events//DE
CALSCALE:GREGORIAN
METHOD:PUBLISH
BEGIN:VEVENT
UID:event-3223@www.doppelpunkt.de
DTSTAMP:20260421T111732
DTSTART:20251207T140000
DTEND:20251207T140000
SUMMARY:Führung: "Warum Adam nie zuhörte und Eva zweimal erschaffen wurde"
LOCATION:Jüdisches Museum\, Königstr. 89\, 90762 Fürth
STATUS:CONFIRMED
END:VEVENT
END:VCALENDAR