BEGIN:VCALENDAR
VERSION:2.0
PRODID:-//Doppelpunkt//Events//DE
CALSCALE:GREGORIAN
METHOD:PUBLISH
BEGIN:VEVENT
UID:event-3221@www.doppelpunkt.de
DTSTAMP:20260421T111500
DTSTART:20251213T150000
DTEND:20251213T150000
SUMMARY:"Sternlesmarkt"\, Weihnachtsmarkt mit Musik\, Kindertheater u. Aktionen
LOCATION:Kirchhof/Rathaus\, 91639 Wolframs-Eschenbach
STATUS:CONFIRMED
END:VEVENT
END:VCALENDAR