BEGIN:VCALENDAR
VERSION:2.0
PRODID:-//Doppelpunkt//Events//DE
CALSCALE:GREGORIAN
METHOD:PUBLISH
BEGIN:VEVENT
UID:event-3220@www.doppelpunkt.de
DTSTAMP:20260421T145800
DTSTART:20251231T140000
DTEND:20251231T140000
SUMMARY:Silvester-Party mit Aktionen u. Livemusik\, 6 Uhr früh Weißwurstfrühstück
LOCATION:Brown Sugar\, Königstorgraben 3\, 90402 Nürnberg
STATUS:CONFIRMED
END:VEVENT
END:VCALENDAR