BEGIN:VCALENDAR
VERSION:2.0
PRODID:-//Doppelpunkt//Events//DE
CALSCALE:GREGORIAN
METHOD:PUBLISH
BEGIN:VEVENT
UID:event-3212@www.doppelpunkt.de
DTSTAMP:20260421T133038
DTSTART:20251212T190000
DTEND:20251212T190000
SUMMARY:Gospelchor George and his lost sheep
LOCATION:St. Klara Kirche\, Königstr. 64\, 90402 Nürnberg
STATUS:CONFIRMED
END:VEVENT
END:VCALENDAR