BEGIN:VCALENDAR
VERSION:2.0
PRODID:-//Doppelpunkt//Events//DE
CALSCALE:GREGORIAN
METHOD:PUBLISH
BEGIN:VEVENT
UID:event-3209@www.doppelpunkt.de
DTSTAMP:20260421T105520
DTSTART:20251205T190000
DTEND:20251205T190000
SUMMARY:Multimediale Live-Reportage mit Markus Mauthe/Greenpeace: "Die Reise zum Klima"
LOCATION:Katharinensaal\, Am Katharinenkloster 6\, 90403 Nürnberg
STATUS:CONFIRMED
END:VEVENT
END:VCALENDAR