BEGIN:VCALENDAR
VERSION:2.0
PRODID:-//Doppelpunkt//Events//DE
CALSCALE:GREGORIAN
METHOD:PUBLISH
BEGIN:VEVENT
UID:event-3208@www.doppelpunkt.de
DTSTAMP:20260421T105505
DTSTART:20251227T153000
DTEND:20251227T153000
SUMMARY:Geschichtenstadl mit Michl Zirk u. Andrea Gonze
LOCATION:Industriemuseum\, Sichartstr. 5-25\, 91207 Lauf
STATUS:CONFIRMED
END:VEVENT
END:VCALENDAR