BEGIN:VCALENDAR
VERSION:2.0
PRODID:-//Doppelpunkt//Events//DE
CALSCALE:GREGORIAN
METHOD:PUBLISH
BEGIN:VEVENT
UID:event-3206@www.doppelpunkt.de
DTSTAMP:20260421T105029
DTSTART:20260109T200000
DTEND:20260109T200000
SUMMARY:"Ceilidh“\, schottischer Tanzabend mit Live-Band
LOCATION:Gemeinschaftshaus Langwasser\, Glogauer Str. 50\, 90473 Nürnberg
STATUS:CONFIRMED
END:VEVENT
END:VCALENDAR