BEGIN:VCALENDAR
VERSION:2.0
PRODID:-//Doppelpunkt//Events//DE
CALSCALE:GREGORIAN
METHOD:PUBLISH
BEGIN:VEVENT
UID:event-3205@www.doppelpunkt.de
DTSTAMP:20260425T141451
DTSTART:20260125T103000
DTEND:20260125T103000
SUMMARY:Mitmachaktionen in den Ausstellungen z.B. "Feuer & Flamme"
LOCATION:Kindermuseum\, im Kachelbau\;  Michael-Ende-Str. 17\, 90439 Nürnberg
STATUS:CONFIRMED
END:VEVENT
END:VCALENDAR