BEGIN:VCALENDAR
VERSION:2.0
PRODID:-//Doppelpunkt//Events//DE
CALSCALE:GREGORIAN
METHOD:PUBLISH
BEGIN:VEVENT
UID:event-3204@www.doppelpunkt.de
DTSTAMP:20260425T122820
DTSTART:20260110T140000
DTEND:20260110T140000
SUMMARY:Mitmachaktionen in den Ausstellungen z.B. "Holzwerkstatt"
LOCATION:Kindermuseum\, im Kachelbau\;  Michael-Ende-Str. 17\, 90439 Nürnberg
STATUS:CONFIRMED
END:VEVENT
END:VCALENDAR