BEGIN:VCALENDAR
VERSION:2.0
PRODID:-//Doppelpunkt//Events//DE
CALSCALE:GREGORIAN
METHOD:PUBLISH
BEGIN:VEVENT
UID:event-3202@www.doppelpunkt.de
DTSTAMP:20260421T105504
DTSTART:20260206T183000
DTEND:20260206T183000
SUMMARY:Martin Rasch (Klavier): Werke von Beethoven\, Schumann u. Debussy
LOCATION:C. Bechstein Centrum\, Lorenzer Platz 29\, 90402 Nürnberg
STATUS:CONFIRMED
END:VEVENT
END:VCALENDAR