BEGIN:VCALENDAR
VERSION:2.0
PRODID:-//Doppelpunkt//Events//DE
CALSCALE:GREGORIAN
METHOD:PUBLISH
BEGIN:VEVENT
UID:event-3199@www.doppelpunkt.de
DTSTAMP:20260425T141727
DTSTART:20260130T183000
DTEND:20260130T183000
SUMMARY:Andreas Kissenbeck: "Wenn alles aus Nichts ist\, wozu dann Schokolade?"\, Lesung u. Konzert
LOCATION:C. Bechstein Centrum\, Lorenzer Platz 29\, 90402 Nürnberg
STATUS:CONFIRMED
END:VEVENT
END:VCALENDAR