BEGIN:VCALENDAR
VERSION:2.0
PRODID:-//Doppelpunkt//Events//DE
CALSCALE:GREGORIAN
METHOD:PUBLISH
BEGIN:VEVENT
UID:event-3198@www.doppelpunkt.de
DTSTAMP:20260421T083948
DTSTART:20260108T193000
DTEND:20260108T193000
SUMMARY:Ilya Shmukler (Klavier): Werke von Mozart\, Chopin u.a.
LOCATION:C. Bechstein Centrum\, Lorenzer Platz 29\, 90402 Nürnberg
STATUS:CONFIRMED
END:VEVENT
END:VCALENDAR