BEGIN:VCALENDAR
VERSION:2.0
PRODID:-//Doppelpunkt//Events//DE
CALSCALE:GREGORIAN
METHOD:PUBLISH
BEGIN:VEVENT
UID:event-3196@www.doppelpunkt.de
DTSTAMP:20260419T164409
DTSTART:20251204T200000
DTEND:20251204T200000
SUMMARY:Ferdinand Schwartz (Klavier): Weihnachtskonzert
LOCATION:C. Bechstein Centrum\, Lorenzer Platz 29\, 90402 Nürnberg
STATUS:CONFIRMED
END:VEVENT
END:VCALENDAR