BEGIN:VCALENDAR
VERSION:2.0
PRODID:-//Doppelpunkt//Events//DE
CALSCALE:GREGORIAN
METHOD:PUBLISH
BEGIN:VEVENT
UID:event-3195@www.doppelpunkt.de
DTSTAMP:20260425T135822
DTSTART:20260131T180000
DTEND:20260131T180000
SUMMARY:Happy Voices Uttenreuth u. The Village People Osternohe: Requiem u. Krönungsmesse von Mozart
LOCATION:St. Kunigunde\, Daniziger Str. 17\, 91080 Uttenreuth
STATUS:CONFIRMED
END:VEVENT
END:VCALENDAR