BEGIN:VCALENDAR
VERSION:2.0
PRODID:-//Doppelpunkt//Events//DE
CALSCALE:GREGORIAN
METHOD:PUBLISH
BEGIN:VEVENT
UID:event-3194@www.doppelpunkt.de
DTSTAMP:20260425T141850
DTSTART:20260127T193000
DTEND:20260127T193000
SUMMARY:Happy Voices Uttenreuth u. The Village People Osternohe: Requiem u. Krönungsmesse von Mozart
LOCATION:Herz-Jesu-Kirche\, Katholischer Kirchenplatz\, 91054 Erlangen
STATUS:CONFIRMED
END:VEVENT
END:VCALENDAR