BEGIN:VCALENDAR
VERSION:2.0
PRODID:-//Doppelpunkt//Events//DE
CALSCALE:GREGORIAN
METHOD:PUBLISH
BEGIN:VEVENT
UID:event-3193@www.doppelpunkt.de
DTSTAMP:20260425T122816
DTSTART:20260216T200000
DTEND:20260216T200000
SUMMARY:Rosenmontags-Fasching
LOCATION:Parks\, Berliner Platz 9\, 90409 Nürnberg
STATUS:CONFIRMED
END:VEVENT
END:VCALENDAR