BEGIN:VCALENDAR
VERSION:2.0
PRODID:-//Doppelpunkt//Events//DE
CALSCALE:GREGORIAN
METHOD:PUBLISH
BEGIN:VEVENT
UID:event-3190@www.doppelpunkt.de
DTSTAMP:20260421T111425
DTSTART:20251231T220000
DTEND:20251231T220000
SUMMARY:Silvester-Party mit Feuerwerk\, Showacts\, Fingerfood uvm.
LOCATION:Parks\, Berliner Platz 9\, 90409 Nürnberg
STATUS:CONFIRMED
END:VEVENT
END:VCALENDAR