BEGIN:VCALENDAR
VERSION:2.0
PRODID:-//Doppelpunkt//Events//DE
CALSCALE:GREGORIAN
METHOD:PUBLISH
BEGIN:VEVENT
UID:event-3187@www.doppelpunkt.de
DTSTAMP:20260419T150309
DTSTART:20260201T150000
DTEND:20260201T150000
SUMMARY:"Der gestiefelte Kater"\, ab 4 J.
LOCATION:Kulturforum Fürth\, Würzburger Straße 2\, 90762 Fürth
STATUS:CONFIRMED
END:VEVENT
END:VCALENDAR