BEGIN:VCALENDAR
VERSION:2.0
PRODID:-//Doppelpunkt//Events//DE
CALSCALE:GREGORIAN
METHOD:PUBLISH
BEGIN:VEVENT
UID:event-3186@www.doppelpunkt.de
DTSTAMP:20260425T135610
DTSTART:20260129T193000
DTEND:20260129T193000
SUMMARY:Reihe "Passagen": Vladimir Kornéev: "La Vie en Piaf"\, Chansons
LOCATION:Kulturforum Fürth\, Würzburger Straße 2\, 90762 Fürth
STATUS:CONFIRMED
END:VEVENT
END:VCALENDAR