BEGIN:VCALENDAR
VERSION:2.0
PRODID:-//Doppelpunkt//Events//DE
CALSCALE:GREGORIAN
METHOD:PUBLISH
BEGIN:VEVENT
UID:event-3185@www.doppelpunkt.de
DTSTAMP:20260425T141625
DTSTART:20260125T150000
DTEND:20260125T150000
SUMMARY:"Tag des Kinderliedes": Kinderkonzert mit Geraldino\, ab 4 J.
LOCATION:Kulturforum Fürth\, Würzburger Straße 2\, 90762 Fürth
STATUS:CONFIRMED
END:VEVENT
END:VCALENDAR