BEGIN:VCALENDAR
VERSION:2.0
PRODID:-//Doppelpunkt//Events//DE
CALSCALE:GREGORIAN
METHOD:PUBLISH
BEGIN:VEVENT
UID:event-3184@www.doppelpunkt.de
DTSTAMP:20260425T161459
DTSTART:20260123T193000
DTEND:20260123T193000
SUMMARY:Vokalgruppe Ultraschall (A-Cappella)
LOCATION:Kulturforum Fürth\, Würzburger Straße 2\, 90762 Fürth
STATUS:CONFIRMED
END:VEVENT
END:VCALENDAR