BEGIN:VCALENDAR
VERSION:2.0
PRODID:-//Doppelpunkt//Events//DE
CALSCALE:GREGORIAN
METHOD:PUBLISH
BEGIN:VEVENT
UID:event-3183@www.doppelpunkt.de
DTSTAMP:20260425T135249
DTSTART:20260111T180000
DTEND:20260111T180000
SUMMARY:Jonas Sorgenfrei (Jazz)
LOCATION:Kulturforum Fürth\, Würzburger Straße 2\, 90762 Fürth
STATUS:CONFIRMED
END:VEVENT
END:VCALENDAR