BEGIN:VCALENDAR
VERSION:2.0
PRODID:-//Doppelpunkt//Events//DE
CALSCALE:GREGORIAN
METHOD:PUBLISH
BEGIN:VEVENT
UID:event-3182@www.doppelpunkt.de
DTSTAMP:20260421T032056
DTSTART:20260105T150000
DTEND:20260105T150000
SUMMARY:Multivisionsshows mit Michael Martin: Auf zwei Rädern durch die Welt"\, 19.00 "Terra"
LOCATION:Stadthalle Fürth\, Rosenstr. 50\, 90762 Fürth
STATUS:CONFIRMED
END:VEVENT
END:VCALENDAR