BEGIN:VCALENDAR
VERSION:2.0
PRODID:-//Doppelpunkt//Events//DE
CALSCALE:GREGORIAN
METHOD:PUBLISH
BEGIN:VEVENT
UID:event-3181@www.doppelpunkt.de
DTSTAMP:20260421T111733
DTSTART:20260205T190000
DTEND:20260205T190000
SUMMARY:Thomas „Eisi“ Eisenhöfer (Blues)
LOCATION:Stadtmuseum Fürth\, Ottostr. 2\, 90762 Fürth
STATUS:CONFIRMED
END:VEVENT
END:VCALENDAR