BEGIN:VCALENDAR
VERSION:2.0
PRODID:-//Doppelpunkt//Events//DE
CALSCALE:GREGORIAN
METHOD:PUBLISH
BEGIN:VEVENT
UID:event-3180@www.doppelpunkt.de
DTSTAMP:20260421T111646
DTSTART:20251204T190000
DTEND:20251204T190000
SUMMARY:Michael Herrschel & Sirka Schwartz-Uppendieck (Gershwin/Chansons)
LOCATION:Stadtmuseum Fürth\, Ottostr. 2\, 90762 Fürth
STATUS:CONFIRMED
END:VEVENT
END:VCALENDAR