BEGIN:VCALENDAR
VERSION:2.0
PRODID:-//Doppelpunkt//Events//DE
CALSCALE:GREGORIAN
METHOD:PUBLISH
BEGIN:VEVENT
UID:event-3179@www.doppelpunkt.de
DTSTAMP:20260421T105856
DTSTART:20260206T190000
DTEND:20260206T190000
SUMMARY:Künstler-Gespräch mit Andrej Dúbravský zur akt. Ausstellung
LOCATION:Kunstpalais\, Marktplatz 1\, 91054 Erlangen
STATUS:CONFIRMED
END:VEVENT
END:VCALENDAR