BEGIN:VCALENDAR
VERSION:2.0
PRODID:-//Doppelpunkt//Events//DE
CALSCALE:GREGORIAN
METHOD:PUBLISH
BEGIN:VEVENT
UID:event-3153@www.doppelpunkt.de
DTSTAMP:20260425T135933
DTSTART:20260127T200000
DTEND:20260127T200000
SUMMARY:Irina Titova - Queen of Sand: "In 80 Bildern um die Welt"\, Sandmalerei-Show
LOCATION:Meistersingerhalle\, Münchener Str. 21\, 90478 Nürnberg
STATUS:CONFIRMED
END:VEVENT
END:VCALENDAR