BEGIN:VCALENDAR
VERSION:2.0
PRODID:-//Doppelpunkt//Events//DE
CALSCALE:GREGORIAN
METHOD:PUBLISH
BEGIN:VEVENT
UID:event-3152@www.doppelpunkt.de
DTSTAMP:20260421T050731
DTSTART:20260106T100000
DTEND:20260106T100000
SUMMARY:Theaterflohmarkt
LOCATION:Act Center e. V.\, Dieselstraße 77\, 90441 Nürnberg
STATUS:CONFIRMED
END:VEVENT
END:VCALENDAR