BEGIN:VCALENDAR
VERSION:2.0
PRODID:-//Doppelpunkt//Events//DE
CALSCALE:GREGORIAN
METHOD:PUBLISH
BEGIN:VEVENT
UID:event-3151@www.doppelpunkt.de
DTSTAMP:20260425T135249
DTSTART:20260126T184500
DTEND:20260128T235900
SUMMARY:Reprisen: Franz K.
LOCATION:Kommkino\, Königstr. 93\, 90403 Nürnberg
STATUS:CONFIRMED
END:VEVENT
END:VCALENDAR