BEGIN:VCALENDAR
VERSION:2.0
PRODID:-//Doppelpunkt//Events//DE
CALSCALE:GREGORIAN
METHOD:PUBLISH
BEGIN:VEVENT
UID:event-3148@www.doppelpunkt.de
DTSTAMP:20260425T141544
DTSTART:20260125T150000
DTEND:20260125T150000
SUMMARY:Heimat! Filmfestival: Walter & sein Ross
LOCATION:Filmhaus Nürnberg\, Königstr. 93\, 90403 Nürnberg
STATUS:CONFIRMED
END:VEVENT
END:VCALENDAR