BEGIN:VCALENDAR
VERSION:2.0
PRODID:-//Doppelpunkt//Events//DE
CALSCALE:GREGORIAN
METHOD:PUBLISH
BEGIN:VEVENT
UID:event-3147@www.doppelpunkt.de
DTSTAMP:20260425T142018
DTSTART:20260125T130000
DTEND:20260125T130000
SUMMARY:Heimat! Filmfestival: Ihre Kinder
LOCATION:Filmhaus Nürnberg\, Königstr. 93\, 90403 Nürnberg
STATUS:CONFIRMED
END:VEVENT
END:VCALENDAR