BEGIN:VCALENDAR
VERSION:2.0
PRODID:-//Doppelpunkt//Events//DE
CALSCALE:GREGORIAN
METHOD:PUBLISH
BEGIN:VEVENT
UID:event-3146@www.doppelpunkt.de
DTSTAMP:20260425T141453
DTSTART:20260125T110000
DTEND:20260125T110000
SUMMARY:Heimat! Filmfestival: Die verkaufte Braut
LOCATION:Filmhaus Nürnberg\, Königstr. 93\, 90403 Nürnberg
STATUS:CONFIRMED
END:VEVENT
END:VCALENDAR