BEGIN:VCALENDAR
VERSION:2.0
PRODID:-//Doppelpunkt//Events//DE
CALSCALE:GREGORIAN
METHOD:PUBLISH
BEGIN:VEVENT
UID:event-3145@www.doppelpunkt.de
DTSTAMP:20260425T141451
DTSTART:20260124T210000
DTEND:20260124T210000
SUMMARY:Heimat! Filmfestival: Shahid
LOCATION:Filmhaus Nürnberg\, Königstr. 93\, 90403 Nürnberg
STATUS:CONFIRMED
END:VEVENT
END:VCALENDAR