BEGIN:VCALENDAR
VERSION:2.0
PRODID:-//Doppelpunkt//Events//DE
CALSCALE:GREGORIAN
METHOD:PUBLISH
BEGIN:VEVENT
UID:event-3143@www.doppelpunkt.de
DTSTAMP:20260425T135217
DTSTART:20260124T130000
DTEND:20260124T130000
SUMMARY:Heimat! Filmfestival: Vortrag\, anschl. Film: Unser Haus in Kamerun
LOCATION:Filmhaus Nürnberg\, Königstr. 93\, 90403 Nürnberg
STATUS:CONFIRMED
END:VEVENT
END:VCALENDAR