BEGIN:VCALENDAR
VERSION:2.0
PRODID:-//Doppelpunkt//Events//DE
CALSCALE:GREGORIAN
METHOD:PUBLISH
BEGIN:VEVENT
UID:event-3139@www.doppelpunkt.de
DTSTAMP:20260425T142130
DTSTART:20260123T150000
DTEND:20260123T150000
SUMMARY:Heimat! Filmfestival: Ur-Musig
LOCATION:Filmhaus Nürnberg\, Königstr. 93\, 90403 Nürnberg
STATUS:CONFIRMED
END:VEVENT
END:VCALENDAR