BEGIN:VCALENDAR
VERSION:2.0
PRODID:-//Doppelpunkt//Events//DE
CALSCALE:GREGORIAN
METHOD:PUBLISH
BEGIN:VEVENT
UID:event-3137@www.doppelpunkt.de
DTSTAMP:20260425T135836
DTSTART:20260125T193000
DTEND:20260128T235900
SUMMARY:Aisha Can't Fly Away (OmU)
LOCATION:Filmhaus Nürnberg\, Königstr. 93\, 90403 Nürnberg
STATUS:CONFIRMED
END:VEVENT
END:VCALENDAR