BEGIN:VCALENDAR
VERSION:2.0
PRODID:-//Doppelpunkt//Events//DE
CALSCALE:GREGORIAN
METHOD:PUBLISH
BEGIN:VEVENT
UID:event-3136@www.doppelpunkt.de
DTSTAMP:20260425T142214
DTSTART:20260121T110000
DTEND:20260124T235900
SUMMARY:Aisha Can't Fly Away (OmU)
LOCATION:Kommkino\, Königstr. 93\, 90403 Nürnberg
STATUS:CONFIRMED
END:VEVENT
END:VCALENDAR