BEGIN:VCALENDAR
VERSION:2.0
PRODID:-//Doppelpunkt//Events//DE
CALSCALE:GREGORIAN
METHOD:PUBLISH
BEGIN:VEVENT
UID:event-3133@www.doppelpunkt.de
DTSTAMP:20260425T135934
DTSTART:20260118T150000
DTEND:20260118T150000
SUMMARY:Filmbüchse der Pandora: Reise zur Insel des Grauens
LOCATION:Kommkino\, Königstr. 93\, 90403 Nürnberg
STATUS:CONFIRMED
END:VEVENT
END:VCALENDAR