BEGIN:VCALENDAR
VERSION:2.0
PRODID:-//Doppelpunkt//Events//DE
CALSCALE:GREGORIAN
METHOD:PUBLISH
BEGIN:VEVENT
UID:event-3132@www.doppelpunkt.de
DTSTAMP:20260425T135304
DTSTART:20260118T130000
DTEND:20260118T130000
SUMMARY:Filmbüchse der Pandora: Gigant des Grauens
LOCATION:Kommkino\, Königstr. 93\, 90403 Nürnberg
STATUS:CONFIRMED
END:VEVENT
END:VCALENDAR