BEGIN:VCALENDAR
VERSION:2.0
PRODID:-//Doppelpunkt//Events//DE
CALSCALE:GREGORIAN
METHOD:PUBLISH
BEGIN:VEVENT
UID:event-3123@www.doppelpunkt.de
DTSTAMP:20260425T144044
DTSTART:20260112T183000
DTEND:20260114T235900
SUMMARY:Reprise: Sentimental Value (OmU)
LOCATION:Kommkino\, Königstr. 93\, 90403 Nürnberg
STATUS:CONFIRMED
END:VEVENT
END:VCALENDAR