BEGIN:VCALENDAR
VERSION:2.0
PRODID:-//Doppelpunkt//Events//DE
CALSCALE:GREGORIAN
METHOD:PUBLISH
BEGIN:VEVENT
UID:event-3122@www.doppelpunkt.de
DTSTAMP:20260425T135248
DTSTART:20260111T113000
DTEND:20260111T113000
SUMMARY:Reprise: Sentimental Value (OmU)
LOCATION:Filmhaus Nürnberg\, Königstr. 93\, 90403 Nürnberg
STATUS:CONFIRMED
END:VEVENT
END:VCALENDAR