BEGIN:VCALENDAR
VERSION:2.0
PRODID:-//Doppelpunkt//Events//DE
CALSCALE:GREGORIAN
METHOD:PUBLISH
BEGIN:VEVENT
UID:event-3121@www.doppelpunkt.de
DTSTAMP:20260421T105426
DTSTART:20260109T150000
DTEND:20260111T235900
SUMMARY:Wicked\, ab 6.
LOCATION:Filmhaus Nürnberg\, Königstr. 93\, 90403 Nürnberg
STATUS:CONFIRMED
END:VEVENT
END:VCALENDAR