BEGIN:VCALENDAR
VERSION:2.0
PRODID:-//Doppelpunkt//Events//DE
CALSCALE:GREGORIAN
METHOD:PUBLISH
BEGIN:VEVENT
UID:event-3120@www.doppelpunkt.de
DTSTAMP:20260425T135355
DTSTART:20260120T190000
DTEND:20260120T190000
SUMMARY:Willi Forst-Werkschau: Die Frau am Weg
LOCATION:Kommkino\, Königstr. 93\, 90403 Nürnberg
STATUS:CONFIRMED
END:VEVENT
END:VCALENDAR