BEGIN:VCALENDAR
VERSION:2.0
PRODID:-//Doppelpunkt//Events//DE
CALSCALE:GREGORIAN
METHOD:PUBLISH
BEGIN:VEVENT
UID:event-3119@www.doppelpunkt.de
DTSTAMP:20260425T135710
DTSTART:20260118T193000
DTEND:20260118T193000
SUMMARY:Willi Forst-Werkschau: Strandgut (Stummfilm mit Live-Musik)
LOCATION:Kommkino\, Königstr. 93\, 90403 Nürnberg
STATUS:CONFIRMED
END:VEVENT
END:VCALENDAR