BEGIN:VCALENDAR
VERSION:2.0
PRODID:-//Doppelpunkt//Events//DE
CALSCALE:GREGORIAN
METHOD:PUBLISH
BEGIN:VEVENT
UID:event-3117@www.doppelpunkt.de
DTSTAMP:20260425T141831
DTSTART:20260117T180000
DTEND:20260117T180000
SUMMARY:Willi Forst-Werkschau: Ich bin Sebastian Ott
LOCATION:Kommkino\, Königstr. 93\, 90403 Nürnberg
STATUS:CONFIRMED
END:VEVENT
END:VCALENDAR